BEGIN:VCALENDAR
VERSION:2.0
PRODID:-//New Albany United Methodist Church - ECPv6.11.0.1//NONSGML v1.0//EN
CALSCALE:GREGORIAN
METHOD:PUBLISH
X-WR-CALNAME:New Albany United Methodist Church
X-ORIGINAL-URL:https://newalbanyumc.com
X-WR-CALDESC:Events for New Albany United Methodist Church
REFRESH-INTERVAL;VALUE=DURATION:PT1H
X-Robots-Tag:noindex
X-PUBLISHED-TTL:PT1H
BEGIN:VTIMEZONE
TZID:America/New_York
BEGIN:DAYLIGHT
TZOFFSETFROM:-0500
TZOFFSETTO:-0400
TZNAME:EDT
DTSTART:20260308T070000
END:DAYLIGHT
BEGIN:STANDARD
TZOFFSETFROM:-0400
TZOFFSETTO:-0500
TZNAME:EST
DTSTART:20261101T060000
END:STANDARD
END:VTIMEZONE
BEGIN:VEVENT
DTSTART;TZID=America/New_York:20260420T190000
DTEND;TZID=America/New_York:20260420T200000
DTSTAMP:20260420T195417
CREATED:20251214T185525Z
LAST-MODIFIED:20260411T221215Z
UID:10001848-1776711600-1776715200@newalbanyumc.com
SUMMARY:AA meeting
DESCRIPTION:
URL:https://newalbanyumc.com/event-deprecated/aa-meeting-126/
END:VEVENT
BEGIN:VEVENT
DTSTART;TZID=America/New_York:20260420T190000
DTEND;TZID=America/New_York:20260420T200000
DTSTAMP:20260420T195417
CREATED:20260408T203704Z
LAST-MODIFIED:20260411T221215Z
UID:10002246-1776711600-1776715200@newalbanyumc.com
SUMMARY:Social Justice ICE Training
DESCRIPTION:
URL:https://newalbanyumc.com/event-deprecated/social-justice-ice-training/
END:VEVENT
BEGIN:VEVENT
DTSTART;TZID=America/New_York:20260421T180000
DTEND;TZID=America/New_York:20260421T190000
DTSTAMP:20260420T195417
CREATED:20251219T182833Z
LAST-MODIFIED:20260411T221216Z
UID:10001862-1776794400-1776798000@newalbanyumc.com
SUMMARY:Trustees Meeting
DESCRIPTION:
URL:https://newalbanyumc.com/event-deprecated/trustees-meeting-4/
END:VEVENT
BEGIN:VEVENT
DTSTART;TZID=America/New_York:20260423T180000
DTEND;TZID=America/New_York:20260423T190000
DTSTAMP:20260420T195417
CREATED:20251221T190248Z
LAST-MODIFIED:20260411T221218Z
UID:10001864-1776967200-1776970800@newalbanyumc.com
SUMMARY:Bell Choir Rehearsal
DESCRIPTION:
URL:https://newalbanyumc.com/event-deprecated/bell-choir-rehearsal-36/
END:VEVENT
BEGIN:VEVENT
DTSTART;TZID=America/New_York:20260423T190000
DTEND;TZID=America/New_York:20260423T200000
DTSTAMP:20260420T195417
CREATED:20251221T190247Z
LAST-MODIFIED:20260411T221218Z
UID:10001863-1776970800-1776974400@newalbanyumc.com
SUMMARY:Chancel Choir rehearsal
DESCRIPTION:
URL:https://newalbanyumc.com/event-deprecated/chancel-choir-rehearsal-34/
LOCATION:Sanctuary
END:VEVENT
BEGIN:VEVENT
DTSTART;TZID=America/New_York:20260423T190000
DTEND;TZID=America/New_York:20260423T200000
DTSTAMP:20260420T195417
CREATED:20251221T190248Z
LAST-MODIFIED:20260411T221218Z
UID:10001865-1776970800-1776974400@newalbanyumc.com
SUMMARY:AA Meeting
DESCRIPTION:
URL:https://newalbanyumc.com/event-deprecated/aa-meeting-128/
END:VEVENT
BEGIN:VEVENT
DTSTART;TZID=America/New_York:20260426T093000
DTEND;TZID=America/New_York:20260426T103000
DTSTAMP:20260420T195417
CREATED:20251221T190250Z
LAST-MODIFIED:20260411T221219Z
UID:10001866-1777195800-1777199400@newalbanyumc.com
SUMMARY:Adult Sunday School
DESCRIPTION:Contact the leader\,  Jeannie Russell for info: jeannie0708@hotmail.com
URL:https://newalbanyumc.com/event-deprecated/adult-sunday-school-43/
LOCATION:Library
END:VEVENT
BEGIN:VEVENT
DTSTART;TZID=America/New_York:20260426T093000
DTEND;TZID=America/New_York:20260426T103000
DTSTAMP:20260420T195417
CREATED:20251222T191242Z
LAST-MODIFIED:20260411T221220Z
UID:10001867-1777195800-1777199400@newalbanyumc.com
SUMMARY:KidMin Children's Worship
DESCRIPTION:
URL:https://newalbanyumc.com/event-deprecated/kidmin-childrens-worship-77/
END:VEVENT
BEGIN:VEVENT
DTSTART;TZID=America/New_York:20260426T110000
DTEND;TZID=America/New_York:20260426T120000
DTSTAMP:20260420T195417
CREATED:20251222T193625Z
LAST-MODIFIED:20260411T221225Z
UID:10001869-1777201200-1777204800@newalbanyumc.com
SUMMARY:KidMin Children's Worship
DESCRIPTION:
URL:https://newalbanyumc.com/event-deprecated/kidmin-childrens-worship-78/
END:VEVENT
BEGIN:VEVENT
DTSTART;TZID=America/New_York:20260426T110000
DTEND;TZID=America/New_York:20260426T120000
DTSTAMP:20260420T195417
CREATED:20251223T195148Z
LAST-MODIFIED:20260411T221224Z
UID:10001870-1777201200-1777204800@newalbanyumc.com
SUMMARY:Classic Worship
DESCRIPTION:
URL:https://newalbanyumc.com/event-deprecated/classic-worship-43/
LOCATION:Sanctuary
END:VEVENT
BEGIN:VEVENT
DTSTART;TZID=America/New_York:20260426T170000
DTEND;TZID=America/New_York:20260426T190000
DTSTAMP:20260420T195417
CREATED:20251225T201642Z
LAST-MODIFIED:20260411T221225Z
UID:10001872-1777222800-1777230000@newalbanyumc.com
SUMMARY:Youth group
DESCRIPTION:
URL:https://newalbanyumc.com/event-deprecated/youth-group-32/
END:VEVENT
BEGIN:VEVENT
DTSTART;TZID=America/New_York:20260427T190000
DTEND;TZID=America/New_York:20260427T200000
DTSTAMP:20260420T195417
CREATED:20251225T201642Z
LAST-MODIFIED:20260411T221226Z
UID:10001873-1777316400-1777320000@newalbanyumc.com
SUMMARY:AA meeting
DESCRIPTION:
URL:https://newalbanyumc.com/event-deprecated/aa-meeting-129/
END:VEVENT
BEGIN:VEVENT
DTSTART;TZID=America/New_York:20260427T190000
DTEND;TZID=America/New_York:20260427T200000
DTSTAMP:20260420T195417
CREATED:20260218T093641Z
LAST-MODIFIED:20260420T143637Z
UID:10002037-1777316400-1777320000@newalbanyumc.com
SUMMARY:Social Justice
DESCRIPTION:
URL:https://newalbanyumc.com/event-deprecated/social-justice-3/
CATEGORIES:Home,Social Justice
ATTACH;FMTTYPE=image/jpeg:https://newalbanyumc.com/wp-content/uploads/2025/06/Social-Justice.jpg
END:VEVENT
BEGIN:VEVENT
DTSTART;TZID=America/New_York:20260428T100000
DTEND;TZID=America/New_York:20260428T140000
DTSTAMP:20260420T195417
CREATED:20260131T043829Z
LAST-MODIFIED:20260411T221226Z
UID:10001970-1777370400-1777384800@newalbanyumc.com
SUMMARY:Aletheans
DESCRIPTION:
URL:https://newalbanyumc.com/event-deprecated/aletheans-6/
LOCATION:Cafe
END:VEVENT
BEGIN:VEVENT
DTSTART;TZID=America/New_York:20260428T110000
DTEND;TZID=America/New_York:20260428T120000
DTSTAMP:20260420T195417
CREATED:20251225T201643Z
LAST-MODIFIED:20260411T221226Z
UID:10001875-1777374000-1777377600@newalbanyumc.com
SUMMARY:Men's Bible Study
DESCRIPTION:Please contact the leader\, Ed Reeg\, for more information:  ed.reeg@gmail.com
URL:https://newalbanyumc.com/event-deprecated/mens-bible-study-43/
LOCATION:Ed Reegs home
END:VEVENT
BEGIN:VEVENT
DTSTART;TZID=America/New_York:20260429T180000
DTEND;TZID=America/New_York:20260429T190000
DTSTAMP:20260420T195417
CREATED:20260228T123303Z
LAST-MODIFIED:20260411T221228Z
UID:10002078-1777485600-1777489200@newalbanyumc.com
SUMMARY:Womens retreat planning meeting
DESCRIPTION:
URL:https://newalbanyumc.com/event-deprecated/womens-retreat-planning-meeting/
LOCATION:Church\n20 Third St.\nNew Albany‎ OH‎ 43054\nUnited States
END:VEVENT
BEGIN:VEVENT
DTSTART;TZID=America/New_York:20260502T090000
DTEND;TZID=America/New_York:20260502T130000
DTSTAMP:20260420T195417
CREATED:20260408T203813Z
LAST-MODIFIED:20260411T221229Z
UID:10002247-1777712400-1777726800@newalbanyumc.com
SUMMARY:Mulching day!
DESCRIPTION:
URL:https://newalbanyumc.com/event-deprecated/mulching-day/
LOCATION:Hloves scoop shovels and garden rakes.
END:VEVENT
BEGIN:VEVENT
DTSTART;TZID=America/New_York:20260503T130000
DTEND;TZID=America/New_York:20260503T140000
DTSTAMP:20260420T195417
CREATED:20260302T125645Z
LAST-MODIFIED:20260411T221232Z
UID:10002081-1777813200-1777816800@newalbanyumc.com
SUMMARY:Cookies due for meal at faith mission
DESCRIPTION:
URL:https://newalbanyumc.com/event-deprecated/cookies-due-for-meal-at-faith-mission-14/
END:VEVENT
BEGIN:VEVENT
DTSTART;TZID=America/New_York:20260504T190000
DTEND;TZID=America/New_York:20260504T200000
DTSTAMP:20260420T195417
CREATED:20260114T003942Z
LAST-MODIFIED:20260411T221232Z
UID:10001918-1777921200-1777924800@newalbanyumc.com
SUMMARY:AA meeting
DESCRIPTION:
URL:https://newalbanyumc.com/event-deprecated/aa-meeting-132/
END:VEVENT
BEGIN:VEVENT
DTSTART;TZID=America/New_York:20260505T000000
DTEND;TZID=America/New_York:20260505T235959
DTSTAMP:20260420T195417
CREATED:20260205T061346Z
LAST-MODIFIED:20260411T221234Z
UID:10001987-1777939200-1778025599@newalbanyumc.com
SUMMARY:ELECTION DAY
DESCRIPTION:
URL:https://newalbanyumc.com/event-deprecated/election-day/
END:VEVENT
BEGIN:VEVENT
DTSTART;TZID=America/New_York:20260505T110000
DTEND;TZID=America/New_York:20260505T120000
DTSTAMP:20260420T195417
CREATED:20260115T005223Z
LAST-MODIFIED:20260411T221234Z
UID:10001920-1777978800-1777982400@newalbanyumc.com
SUMMARY:Men's Bible Study
DESCRIPTION:Please contact the leader\, Ed Reeg\, for more information:  ed.reeg@gmail.com
URL:https://newalbanyumc.com/event-deprecated/mens-bible-study-44/
LOCATION:Ed Reegs home
END:VEVENT
BEGIN:VEVENT
DTSTART;TZID=America/New_York:20260505T190000
DTEND;TZID=America/New_York:20260505T203000
DTSTAMP:20260420T195417
CREATED:20260407T202625Z
LAST-MODIFIED:20260411T221234Z
UID:10002238-1778007600-1778013000@newalbanyumc.com
SUMMARY:Discipleship Team Meeting
DESCRIPTION:
URL:https://newalbanyumc.com/event-deprecated/discipleship-meeting/
END:VEVENT
BEGIN:VEVENT
DTSTART;TZID=America/New_York:20260505T193000
DTEND;TZID=America/New_York:20260505T203000
DTSTAMP:20260420T195417
CREATED:20260116T011631Z
LAST-MODIFIED:20260411T221233Z
UID:10001921-1778009400-1778013000@newalbanyumc.com
SUMMARY:AA Meeting
DESCRIPTION:
URL:https://newalbanyumc.com/event-deprecated/aa-meeting-133/
LOCATION:Library
END:VEVENT
BEGIN:VEVENT
DTSTART;TZID=America/New_York:20260506T183000
DTEND;TZID=America/New_York:20260506T203000
DTSTAMP:20260420T195417
CREATED:20260312T154228Z
LAST-MODIFIED:20260411T221235Z
UID:10002120-1778092200-1778099400@newalbanyumc.com
SUMMARY:Wednesday Women Women’s Bible Study
DESCRIPTION:
URL:https://newalbanyumc.com/event-deprecated/wednesday-women-womens-bible-study-3/
END:VEVENT
BEGIN:VEVENT
DTSTART;TZID=America/New_York:20260506T190000
DTEND;TZID=America/New_York:20260506T200000
DTSTAMP:20260420T195417
CREATED:20260116T011631Z
LAST-MODIFIED:20260411T221234Z
UID:10001922-1778094000-1778097600@newalbanyumc.com
SUMMARY:Praise band rehearsal
DESCRIPTION:
URL:https://newalbanyumc.com/event-deprecated/praise-band-rehearsal-44/
END:VEVENT
BEGIN:VEVENT
DTSTART;TZID=America/New_York:20260507T130000
DTEND;TZID=America/New_York:20260507T140000
DTSTAMP:20260420T195417
CREATED:20260105T223431Z
LAST-MODIFIED:20260411T221235Z
UID:10001899-1778158800-1778162400@newalbanyumc.com
SUMMARY:Calling and caring team
DESCRIPTION:
URL:https://newalbanyumc.com/event-deprecated/calling-and-caring-team-2/
END:VEVENT
BEGIN:VEVENT
DTSTART;TZID=America/New_York:20260507T190000
DTEND;TZID=America/New_York:20260507T200000
DTSTAMP:20260420T195417
CREATED:20260116T011632Z
LAST-MODIFIED:20260411T221236Z
UID:10001924-1778180400-1778184000@newalbanyumc.com
SUMMARY:Chancel Choir rehearsal
DESCRIPTION:
URL:https://newalbanyumc.com/event-deprecated/chancel-choir-rehearsal-36/
LOCATION:Sanctuary
END:VEVENT
BEGIN:VEVENT
DTSTART;TZID=America/New_York:20260510T093000
DTEND;TZID=America/New_York:20260510T103000
DTSTAMP:20260420T195417
CREATED:20260119T020752Z
LAST-MODIFIED:20260411T221238Z
UID:10001927-1778405400-1778409000@newalbanyumc.com
SUMMARY:Adult Sunday School
DESCRIPTION:Contact the leader\,  Jeannie Russell for info: jeannie0708@hotmail.com
URL:https://newalbanyumc.com/event-deprecated/adult-sunday-school-45/
LOCATION:Library
END:VEVENT
BEGIN:VEVENT
DTSTART;TZID=America/New_York:20260510T093000
DTEND;TZID=America/New_York:20260510T103000
DTSTAMP:20260420T195417
CREATED:20260119T020753Z
LAST-MODIFIED:20260411T221239Z
UID:10001931-1778405400-1778409000@newalbanyumc.com
SUMMARY:KidMin Children's Worship
DESCRIPTION:
URL:https://newalbanyumc.com/event-deprecated/kidmin-childrens-worship-82/
END:VEVENT
BEGIN:VEVENT
DTSTART;TZID=America/New_York:20260510T093000
DTEND;TZID=America/New_York:20260510T103000
DTSTAMP:20260420T195417
CREATED:20260119T020753Z
LAST-MODIFIED:20260411T221238Z
UID:10001932-1778405400-1778409000@newalbanyumc.com
SUMMARY:Modern Worship
DESCRIPTION:
URL:https://newalbanyumc.com/event-deprecated/modern-worship-46/
LOCATION:Sanctuary
END:VEVENT
END:VCALENDAR